Workbook

Sheet Winners
B1: 2026 Seneca Invitational
B3: MD | C3: Winner | D3: [SEN] Bosco Lai/Maulik Jain (2) | F3: MD Cons | G3: Winner | H3: [CON] Ryan Tu/Akashdeep Singh
B4: WD | C4: Winner | D4: [HUM] Rachel Chan/Elena Meng (1) | F4: WD Cons | G4: Winner | H4: [FAN] Sam Darby/Nicole Kim
B5: XD | C5: Winner | D5: [SEN] Alyssa Iran/Bosco Lai (3/4) | F5: XD Cons | G5: Winner | H5: [FAN] Xin Niu/Ram Ng
B6: MS | C6: Winner | D6: [SEN] Bosco Lai (1) | F6: MS Cons | G6: Winner | H6: [CON] Nolan Bridge
B7: WS | C7: Winner | D7: [HUM] Rachel Chan (1) | F7: WS Cons | G7: Winner | H7: [CON] Mariam Muqeem
B9: MD | C9: Finalist | D9: [SEN] Anthony Tso/Jordan Lau (1)
B10: WD | C10: Finalist | D10: [HUM] Shruti Joshi/Sherry Wu (2)
B11: XD | C11: Finalist | D11: [SEN] Vanness Lam/Jordan Lau (5/8)
B12: MS | C12: Finalist | D12: [FAN] Arpi Sinha (3/4)
B13: WS | C13: Finalist | D13: [HUM] Sherry Wu (2)
B15: Congratulations and thank you for coming!

Sheet Matches
A1: Match | B1: Event | C1: Round | D1: Team | F1: Team | G1: Winner's Score
A2: 1 | B2: MD | C2: =MD!A2 -> Round 1 | D2: =MD!A4 -> 1\ [SEN] Anthony Tso/Jordan Lau (1) | E2: vs | F2: =MD!A6 -> 1\ [CAM] Dominik Brunette/Grayson Hebner | G2: 21-5, 21-8
A3: 2 | B3: MD | C3: =MD!A2 -> Round 1 | D3: =MD!A20 -> 2\ [SEN] Malakai Thompson/Sebastien Liu (5/8) | E3: vs | F3: =MD!A22 -> 2\ [LAM] Dalton Baxter/Mathew Blayney | G3: 21-10, 21-3
A4: 3 | B4: MD | C4: =MD!A2 -> Round 1 | D4: =MD!A32 -> 3\ [CAM] Hedson John/Prabhkirat Singh | E4: vs | F4: =MD!A34 -> 3\ [HUM] Jack Ronahan/Chase Anderson (3/4) | G4: 8-21, 6-21
A5: 4 | B5: MD | C5: =MD!A2 -> Round 1 | D5: =MD!A36 -> 4\ [FAN] Thao Le/Arpi Sinha (3/4) | E5: vs | F5: =MD!A38 -> 4\ [CAM] Daniel Collins/Trent Barron | G5: 21-5, 21-7
A6: 5 | B6: MD | C6: =MD!A2 -> Round 1 | D6: =MD!A64 -> 5\ [CON] Thinh Nguyen/Boldizsar 'Bhumi' Sio | E6: vs | F6: =MD!A66 -> 5\ [SEN] Bosco Lai/Maulik Jain (2) | G6: 10-21, 10-21
A7: 6 | B7: MD | C7: =MD!B2 -> Round 2 | D7: =MD!B13 -> 6\ [FAN] Jack Wang/Alex Li | E7: vs | F7: =MD!B17 -> 6\ [CON] Maxwell Barnes/Nolan Bridge | G7: 3-21, 1-21
A8: 7 | B8: MD | C8: =MD!B2 -> Round 2 | D8: =MD!B45 -> 7\ [LAM] Ryan Stubberfield/Gavin Clark | E8: vs | F8: =MD!B49 -> 7\ [SEN] Kevin Yee/Andrew Li | G8: 9-21, 11-21
A9: 8 | B9: MD | C9: =MD!B2 -> Round 2 | D9: =MD!B53 -> 8\ [FAN] Suhail Muhammad/Ram Ng (5/8) | E9: vs | F9: =MD!B57 -> 8\ [HUM] Tyler Vicente-Pereira/Aldrin Miranda | G9: 21-14, 21-11
A10: 9 | B10: MD | C10: =MD!B2 -> Round 2 | D10: =MD!B5 -> 9\ [SEN] Anthony Tso/Jordan Lau (1) | E10: vs | F10: =MD!B9 -> 9\ [LAM] Caleb Clayton/Milton M | G10: 21-10, 21-9
A11: 10 | B11: MD | C11: =MD!B2 -> Round 2 | D11: =MD!B21 -> 10\ [SEN] Malakai Thompson/Sebastien Liu (5/8) | E11: vs | F11: =MD!B25 -> 10\ [HUM] Harry Vu/Reanbert Valentino | G11: 21-10, 21-19
A12: 11 | B12: MD | C12: =MD!B2 -> Round 2 | D12: =MD!B29 -> 11\ [BOR] Jordan Atkins/Aaden Atkins | E12: vs | F12: =MD!B33 -> 11\ [HUM] Jack Ronahan/Chase Anderson (3/4) | G12: 6-21, 7-21
A13: 12 | B13: MD | C13: =MD!B2 -> Round 2 | D13: =MD!B37 -> 12\ [FAN] Thao Le/Arpi Sinha (3/4) | E13: vs | F13: =MD!B41 -> 12\ [CON] Ryan Tu/Akashdeep Singh | G13: 21-10, 21-12
A14: 13 | B14: MD | C14: =MD!B2 -> Round 2 | D14: =MD!B61 -> 13\ [LAM] Spencer Veenedaal/Lucas Aarts | E14: vs | F14: =MD!B65 -> 13\ [SEN] Bosco Lai/Maulik Jain (2) | G14: 5-21, 6-21
A15: 14 | B15: WD | C15: =WD!A2 -> Round 1 | D15: =WD!A4 -> 14\ [HUM] Rachel Chan/Elena Meng (1) | E15: vs | F15: =WD!A6 -> 14\ [SEN] Tiffany Amper/Manuela Patiño | G15: 21-3, 21-2
A16: 15 | B16: WD | C16: =WD!A2 -> Round 1 | D16: =WD!A8 -> 15\ [LAM] Jessie Hillier/[BOR] Laydia Richard | E16: vs | F16: =WD!A10 -> 15\ [FAN] Rejoice Nwokedi/Khiara Dizon | G16: 13-21, 11-21
A17: 16 | B17: WD | C17: =WD!A2 -> Round 1 | D17: =WD!A12 -> 16\ [SEN] Amy Xing/Chincco Lai | E17: vs | F17: =WD!A14 -> 16\ [CON] Shubi Yadav/Mariam Muqeem | G17: 21-6, 21-9
A18: 17 | B18: WD | C18: =WD!A2 -> Round 1 | D18: =WD!A20 -> 17\ [SEN] Vanness Lam/Alyssa Iran (3/4) | E18: vs | F18: =WD!A22 -> 17\ [BOR] Alyssa Gagné/Mackenzie Pilon | G18: 21-4, 21-2
A19: 18 | B19: WD | C19: =WD!A2 -> Round 1 | D19: =WD!A24 -> 18\ [LAM] Sydney Godek/Lauren Goldsack | E19: vs | F19: =WD!A26 -> 18\ [FAN] Xin Niu/Tilu Vaidya | G19: 8-21,7-21
A20: 19 | B20: WD | C20: =WD!A2 -> Round 1 | D20: =WD!A28 -> 19\ [CAM] Jamie Hopkins/Alexa Clark | E20: vs | F20: =WD!A30 -> 19\ [CON] Ayshanur Janybek/[SEN] Demetra Mew | G20: 21-17, 18-21, 24-22
A21: 20 | B21: WD | C21: =WD!A2 -> Round 1 | D21: =WD!A32 -> 20\ [BOR] Ayushee Somaroo/Maryssa Mercier | E21: vs | F21: =WD!A34 -> 20\ [HUM] Shruti Joshi/Sherry Wu (2) | G21: 5-21, 4-21
A22: 21 | B22: MD Cons | C22: ='MD Cons'!A2 -> Round 1 | D22: ='MD Cons'!A4 -> 21\ [CAM] Dominik Brunette/Grayson Hebner | E22: vs | F22: ='MD Cons'!A6 -> 21\ [LAM] Caleb Clayton/Milton M | G22: 22-20, 21-12
A23: 22 | B23: MD Cons | C23: ='MD Cons'!A2 -> Round 1 | D23: ='MD Cons'!A8 -> 22\ BYE | E23: vs | F23: ='MD Cons'!A10 -> 22\ [LAM] Dalton Baxter/Mathew Blayney
A24: 23 | B24: MD Cons | C24: ='MD Cons'!A2 -> Round 1 | D24: ='MD Cons'!A12 -> 23\ [BOR] Jordan Atkins/Aaden Atkins | E24: vs | F24: ='MD Cons'!A14 -> 23\ [CAM] Hedson John/Prabhkirat Singh | G24: 21-15, 21-12
A25: 24 | B25: MD Cons | C25: ='MD Cons'!A2 -> Round 1 | D25: ='MD Cons'!A16 -> 24\ [CON] Ryan Tu/Akashdeep Singh | E25: vs | F25: ='MD Cons'!A18 -> 24\ [HUM] Harry Vu/Reanbert Valentino | G25: 21-14, 21-14
A26: 25 | B26: MD Cons | C26: ='MD Cons'!A2 -> Round 1 | D26: ='MD Cons'!A20 -> 25\ [CAM] Daniel Collins/Trent Barron | E26: vs | F26: ='MD Cons'!A22 -> 25\ BYE
A27: 26 | B27: MD Cons | C27: ='MD Cons'!A2 -> Round 1 | D27: ='MD Cons'!A24 -> 26\ [LAM] Ryan Stubberfield/Gavin Clark | E27: vs | F27: ='MD Cons'!A26 -> 26\ [FAN] Jack Wang/Alex Li | G27: 21-10, 21-14
A28: 27 | B28: MD Cons | C28: ='MD Cons'!A2 -> Round 1 | D28: ='MD Cons'!A28 -> 27\ [HUM] Tyler Vicente-Pereira/Aldrin Miranda | E28: vs | F28: ='MD Cons'!A30 -> 27\ [LAM] Spencer Veenedaal/Lucas Aarts | G28: 21-13, 21-11
A29: 28 | B29: MD Cons | C29: ='MD Cons'!A2 -> Round 1 | D29: ='MD Cons'!A32 -> 28\ [CON] Thinh Nguyen/Boldizsar 'Bhumi' Sio | E29: vs | F29: ='MD Cons'!A34 -> 28\ BYE
A30: 29 | B30: WD Cons | C30: ='WD Cons'!A2 -> Quarter-Finals | D30: ='WD Cons'!A4 -> 29\ [SEN] Tiffany Amper/Manuela Patiño | E30: vs | F30: ='WD Cons'!A6 -> 29\ [FAN] Sam Darby/Nicole Kim | G30: 21-18, 18-21, 10-21
A31: 30 | B31: WD Cons | C31: ='WD Cons'!A2 -> Quarter-Finals | D31: ='WD Cons'!A8 -> 30\ [LAM] Jessie Hillier/[BOR] Laydia Richard | E31: vs | F31: ='WD Cons'!A10 -> 30\ [CON] Shubi Yadav/Mariam Muqeem | G31: 16-21, 11-21
A32: 31 | B32: WD Cons | C32: ='WD Cons'!A2 -> Quarter-Finals | D32: ='WD Cons'!A12 -> 31\ [LAM] Sydney Godek/Lauren Goldsack | E32: vs | F32: ='WD Cons'!A14 -> 31\ [BOR] Alyssa Gagné/Mackenzie Pilon | G32: 21-12, 21-5
A33: 32 | B33: WD Cons | C33: ='WD Cons'!A2 -> Quarter-Finals | D33: ='WD Cons'!A16 -> 32\ [CON] Ayshanur Janybek/[SEN] Demetra Mew | E33: vs | F33: ='WD Cons'!A18 -> 32\ [BOR] Ayushee Somaroo/Maryssa Mercier | G33: 21-15, 16-21, 21-12
A34: 33 | B34: MD | C34: =MD!C2 -> Quarter-Finals | D34: =MD!C7 -> 33\ [SEN] Anthony Tso/Jordan Lau (1) | E34: vs | F34: =MD!C15 -> 33\ [CON] Maxwell Barnes/Nolan Bridge | G34: 21-4, 21-8
A35: 34 | B35: MD | C35: =MD!C2 -> Quarter-Finals | D35: =MD!C23 -> 34\ [SEN] Malakai Thompson/Sebastien Liu (5/8) | E35: vs | F35: =MD!C31 -> 34\ [HUM] Jack Ronahan/Chase Anderson (3/4) | G35: 24-22, 21-11
A36: 35 | B36: MD | C36: =MD!C2 -> Quarter-Finals | D36: =MD!C39 -> 35\ [FAN] Thao Le/Arpi Sinha (3/4) | E36: vs | F36: =MD!C47 -> 35\ [SEN] Kevin Yee/Andrew Li | G36: 21-11, 21-15
A37: 36 | B37: MD | C37: =MD!C2 -> Quarter-Finals | D37: =MD!C55 -> 36\ [FAN] Suhail Muhammad/Ram Ng (5/8) | E37: vs | F37: =MD!C63 -> 36\ [SEN] Bosco Lai/Maulik Jain (2) | G37: 16-21, 14-21
A38: 37 | B38: MD Cons | C38: ='MD Cons'!B2 -> Semi-Finals | D38: ='MD Cons'!B5 -> 37\ [CAM] Dominik Brunette/Grayson Hebner | E38: vs | F38: ='MD Cons'!B9 -> 37\ [LAM] Dalton Baxter/Mathew Blayney | G38: 21-11, 21-15
A39: 38 | B39: MD Cons | C39: ='MD Cons'!B2 -> Semi-Finals | D39: ='MD Cons'!B13 -> 38\ [BOR] Jordan Atkins/Aaden Atkins | E39: vs | F39: ='MD Cons'!B17 -> 38\ [CON] Ryan Tu/Akashdeep Singh | G39: 11-21, 8-21
A40: 39 | B40: MD Cons | C40: ='MD Cons'!B2 -> Semi-Finals | D40: ='MD Cons'!B21 -> 39\ [CAM] Daniel Collins/Trent Barron | E40: vs | F40: ='MD Cons'!B25 -> 39\ [FAN] Jack Wang/Alex Li | G40: 24-22, 21-18
...

Sheet Roster
B1: Main Roster
B2: Men's Doubles | C2: Women's Doubles | D2: Mixed Doubles | E2: Men's Singles | F2: Women's Singles | G2: NOTES
A3: # | B3: =COUNTIF(B4:B35,"<>BYE") & " " & B2 & " Teams" -> 21 Men's Doubles Teams | C3: =COUNTIF(C4:C19,"<>BYE") & " " & C2 & " Teams" -> 15 Women's Doubles Teams | D3: =COUNTIF(D4:D35,"<>BYE") & " " & D2 & " Teams" -> 27 Mixed Doubles Teams | E3: =COUNTIF(E4:E35,"<>BYE") & " " & E2 & " Teams" -> 32 Men's Singles Teams | F3: =COUNTIF(F4:F35,"<>BYE") & " " & F2 & " Teams" -> 24 Women's Singles Teams | G3: =COUNTIF(B4:B35,"<>BYE") + COUNTIF(C4:C19,"<>BYE") + COUNTIF(D4:F35,"<>BYE") & " Total Teams" -> 119 Total Teams
A4: 1 | B4: [BOR] Jordan Atkins/Aaden Atkins | C4: [BOR] Alyssa Gagné/Mackenzie Pilon | D4: [BOR] Ayushee Somaroo/Jordan Atkins | E4: [BOR] Aaden Atkins | F4: [BOR] Alyssa Gagné | G4: Partner Requests
A5: 2 | B5: [CAM] Daniel Collins/Trent Barron | C5: [BOR] Ayushee Somaroo/Maryssa Mercier | D5: [BOR] Laydia Richard/Eric Leduc | E5: [BOR] Eric Leduc | F5: [BOR] Laydia Richard | G5: WD: [CON] Mariam Muqeem
A6: 3 | B6: [CAM] Dominik Brunette/Grayson Hebner | C6: [CAM] Jamie Hopkins/Alexa Clark | D6: [BOR] Maryssa Mercier/Aaden Atkins | E6: [BOR] Jordan Atkins | F6: [BOR] Mackenzie Pilon | G6: WD: [BOR] Laydia Richard
A7: 4 | B7: [CAM] Hedson John/Prabhkirat Singh | C7: [CON] Ayshanur Janybek/[SEN] Demetra Mew | D7: [CAM] Alexa Clark/Grayson Hebner | E7: [CAM] Daniel Collins | F7: [BOR] Maryssa Mercier | G7: WD: [CON] Ayshanur Janybek
A8: 5 | B8: [CON] Maxwell Barnes/Nolan Bridge | C8: [LAM] Jessie Hillier/[BOR] Laydia Richard | D8: [CAM] Chelsea Kennedy/Hedson John | E8: [CAM] Dominik Brunette | F8: [CAM] Alexa Clark | G8: WD: [SEN] Demetra Mew
A9: 6 | B9: [CON] Ryan Tu/Akashdeep Singh | C9: [CON] Shubi Yadav/Mariam Muqeem | D9: [CAM] Jamie Hopkins/Dominik Brunette | E9: [CAM] Grayson Hebner | F9: [CAM] Jamie Hopkins | G9: WD: [LAM] Jessie Hillier
A10: 7 | B10: [CON] Thinh Nguyen/Boldizsar 'Bhumi' Sio | C10: [FAN] Rejoice Nwokedi/Khiara Dizon | D10: [CON] Ayshanur Janybek/Maxwell Barnes | E10: [CAM] Hedson John | F10: [CON] Ayshanur Janybek | G10: XD: [CON] Nolan Bridge
A11: 8 | B11: [FAN] Jack Wang/Alex Li | C11: [FAN] Sam Darby/Nicole Kim (3/4) | D11: [CON] Mariam Muqeem/Ryan Tu | E11: [CAM] Trent Barron | F11: [CON] Mariam Muqeem | G11: XD: [CON] Thinh Nguyen
A12: 9 | B12: [FAN] Suhail Muhammad/Ram Ng (5/8) | C12: [FAN] Xin Niu/Tilu Vaidya | D12: [CON] Shubi Yadav/Nolan Bridge | E12: [CON] Akashdeep Singh | F12: [FAN] Khiara Dizon | G12: XD: [CON] Akashdeep Singh
A13: 10 | B13: [FAN] Thao Le/Arpi Sinha (3/4) | C13: [HUM] Rachel Chan/Elena Meng (1) | D13: [FAN] Nicole Kim/Thao Le | E13: [CON] Boldizsar 'Bhumi' Sio | F13: [FAN] Nicole Kim (5/8) | G13: XD: [CON] Boldizsar 'Bhumi' Sio
A14: 11 | B14: [HUM] Harry Vu/Reanbert Valentino | C14: [HUM] Shruti Joshi/Sherry Wu (2) | D14: [FAN] Sam Darby/Suhail Muhammad | E14: [CON] Maxwell Barnes | F14: [FAN] Rejoice Nwokedi | G14: XD: [LAM] Dalton Baxter
A15: 12 | B15: [HUM] Jack Ronahan/Chase Anderson (3/4) | C15: [LAM] Sydney Godek/Lauren Goldsack | D15: [FAN] Tilu Vaidya/Arpi Sinha (5/8) | E15: [CON] Nolan Bridge | F15: [FAN] Sam Darby | G15: XD: [BOR] Mackenzie Pilon
... A17: 14 | B17: [LAM] Caleb Clayton/Milton M | C17: [SEN] Tiffany Amper/Manuela Patiño | D17: [HUM] Elena Meng/Tyler Vicente-Pereira (3/4) | E17: [CON] Thinh Nguyen | F17: [HUM] Rachel Chan (1) | G17: MD: [BOR] Eric Leduc
A18: 15 | B18: [LAM] Dalton Baxter/Mathew Blayney | C18: [SEN] Vanness Lam/Alyssa Iran (3/4) | D18: [HUM] Rachel Chan/Jack Ronahan (1) | E18: [FAN] Alex Li | F18: [HUM] Sherry Wu (2)
A19: 16 | B19: [LAM] Ryan Stubberfield/Gavin Clark | C19: BYE | D19: [HUM] Sherry Wu/Chase Anderson (2) | E19: [FAN] Arpi Sinha (3/4) | F19: [HUM] Shruti Joshi (3/4)
A20: 17 | B20: [LAM] Spencer Veenedaal/Lucas Aarts | C20: Schools | D20: [HUM] Shruti Joshi/Reanbert Valentino (5/8) | E20: [FAN] Jack Wang | F20: [LAM] Jessie Hillier | G20: Waitlist
A21: 18 | B21: [SEN] Anthony Tso/Jordan Lau (1) | C21: [BOR] Collège Boréal | D21: [LAM] Jessie Hillier/Gavin Clark | E21: [FAN] Suhail Muhammad (5/8) | F21: [LAM] Lauren Goldsack | G21: MS: [CON] Thinh Nguyen
A22: 19 | B22: [SEN] Bosco Lai/Maulik Jain (2) | C22: [CAM] Cambrian College | D22: [LAM] Lauren Goldsack/Milton M | E22: [HUM] Aldrin Miranda | F22: [LAM] Sydney Godek | G22: MS: [FAN] Thao Le
A23: 20 | B23: [SEN] Kevin Yee/Andrew Li | C23: [CON] Conestoga College | D23: [LAM] Sydney Godek/Thit Lwin Tun | E23: [HUM] Chase Anderson | F23: [SEN] Amy Xing | G23: MS: [CAM] Prabhkirat Singh
A24: 21 | B24: [SEN] Malakai Thompson/Sebastien Liu (5/8) | C24: [FAN] Fanshawe College | D24: [SEN] Alyssa Iran/Bosco Lai (3/4) | E24: [HUM] Jack Ronahan (3/4) | F24: [SEN] Chincco Lai (5/8)
A25: 22 | B25: BYE | C25: [HUM] Humber College | D25: [SEN] Amy Xing/Malakhai Thompson (5/8) | E25: [HUM] Reanbert Valentino | F25: [SEN] Manuela Patiño
A26: 23 | B26: BYE | C26: [LAM] Lambton College | D26: [SEN] Manuela Patiño/Andrew Li | E26: [HUM] Tyler Vicente-Pereira | F26: [SEN] Tiffany Amper | G26: Withdrawals
A27: 24 | B27: BYE | C27: [SEN] Seneca College | D27: [SEN] Tiffany Amper/Kevin Yee | E27: [LAM] Mathew Blayney | F27: [CON] Shubi Yadav | G27: MS/XD: [FAN] Min Kang
A28: 25 | B28: BYE | D28: [SEN] Vanness Lam/Jordan Lau (5/8) | E28: [LAM] Rutvik Desai | F28: BYE | G28: WS/WD/XD: [LAM] Carolina Huete‑Jacobs
A29: 26 | B29: BYE | D29: [CON] Thinh Nguyen/[BOR] Mackenzie Pilon | E29: [LAM] Ryan Stubberfield | F29: BYE | G29: WD: [CON] Emma Strauss
A30: 27 | B30: BYE | D30: [BOR] Alyssa Gagné/[CAM] Daniel Collins | E30: [LAM] Thit Lwin Tun | F30: BYE | G30: MS: [HUM] Jack Ronahan
A31: 28 | B31: BYE | D31: BYE | E31: [SEN] Andrew Li | F31: BYE | G31: WS: [SEN] Vanness Lam
A32: 29 | B32: BYE | D32: BYE | E32: [SEN] Bosco Lai (1) | F32: BYE
A33: 30 | B33: BYE | D33: BYE | E33: [SEN] Malakhai Thompson (5/8) | F33: BYE
A34: 31 | B34: BYE | D34: BYE | E34: [SEN] Maulik Jain (2) | F34: BYE
A35: 32 | B35: BYE | D35: BYE | E35: [SEN] Sebastien Liu | F35: BYE

Sheet MS
A1: 2
A2: Round 1 | B2: Round 2 | C2: Quarter-Finals | D2: Semi-Finals | E2: Finals | F2: Winner
A4: 99\ [SEN] Bosco Lai (1)
B5: 139\ [SEN] Bosco Lai (1)
A6: 99\ [LAM] Mathew Blayney | B6: 21-6, 21-10
C7: 163\ [SEN] Bosco Lai (1)
A8: 100\ [CAM] Grayson Hebner | C8: 21-10, 21-14
B9: 139\ [CON] Maxwell Barnes
A10: 100\ [CON] Maxwell Barnes | B10: 21-8, 21-3
D11: 173\ [SEN] Bosco Lai (1)
A12: 101\ [CAM] Trent Barron | D12: 21-12, 21-15
B13: 140\ [CON] Akashdeep Singh
A14: 101\ [CON] Akashdeep Singh | B14: 21-10, 21-7
C15: 163\ [HUM] Aldrin Miranda
A16: 102\ [HUM] Aldrin Miranda | C16: 21-18, 21-18
B17: 140\ [HUM] Aldrin Miranda
A18: 102\ [FAN] Thao Le | B18: 21-12, 21-15
E19: 180\ [SEN] Bosco Lai (1)
A20: 103\ [FAN] Jack Wang | E20: 21-16, 21-13
B21: 141\ [CAM] Hedson John
A22: 103\ [CAM] Hedson John | B22: 21-14, 21-18
C23: 164\ [SEN] Sebastien Liu
A24: 104\ [CON] Nolan Bridge | C24: 21-14, 21-3
B25: 141\ [SEN] Sebastien Liu
A26: 104\ [SEN] Sebastien Liu | B26: 23-21, 21-17
D27: 173\ [FAN] Suhail Muhammad (5/8)
A28: 105\ [LAM] Rutvik Desai | D28: 21-19, 21-16
B29: 142\ [CAM] Prabhkirat Singh
A30: 105\ [CAM] Prabhkirat Singh | B30: 21-19, 22-20
C31: 164\ [FAN] Suhail Muhammad (5/8)
A32: 106\ [CAM] Daniel Collins | C32: 21-4, 21-7
B33: 142\ [FAN] Suhail Muhammad (5/8)
A34: 106\ [FAN] Suhail Muhammad (5/8) | B34: 21-11, 21-10
F35: [SEN] Bosco Lai (1)
A36: 107\ [FAN] Arpi Sinha (3/4) | F36: 21-19, 12-21, 21-19
B37: 143\ [FAN] Arpi Sinha (3/4)
A38: 107\ [CON] Boldizsar 'Bhumi' Sio | B38: 21-12, 21-17
C39: 165\ [FAN] Arpi Sinha (3/4)
A40: 108\ [LAM] Ryan Stubberfield | C40: 21-5, 21-5
B41: 143\ [HUM] Tyler Vicente-Pereira
...

Sheet MS Cons
A1: N
A2: Round 1 | B2: Quarter-Finals | C2: Semi-Finals | D2: Finals | E2: Winner
A4: 131\ [LAM] Mathew Blayney
B5: 159\ [CAM] Grayson Hebner
A6: 131\ [CAM] Grayson Hebner | B6: 21-4, 21-7
C7: 171\ [FAN] Thao Le
A8: 132\ [CAM] Trent Barron | C8: 21-16, 21-12
B9: 159\ [FAN] Thao Le
A10: 132\ [FAN] Thao Le | B10: 21-15, 21-10
D11: 179\ [CON] Nolan Bridge
A12: 133\ [FAN] Jack Wang | D12: 22-20, 21-17
B13: 160\ [CON] Nolan Bridge
A14: 133\ [CON] Nolan Bridge | B14: 21-8, 21-12
C15: 171\ [CON] Nolan Bridge
A16: 134\ [LAM] Rutvik Desai | C16: 21-10, 21-16
B17: 160\ [CAM] Daniel Collins
A18: 134\ [CAM] Daniel Collins | B18: 21-18, 4-21, 21-10
E19: [CON] Nolan Bridge
A20: 135\ [CON] Boldizsar 'Bhumi' Sio | E20: 21-10, 21-12
B21: 161\ [CON] Boldizsar 'Bhumi' Sio
A22: 135\ [LAM] Ryan Stubberfield | B22: 21-5, 21-12
C23: 172\ [FAN] Alex Li
A24: 136\ [BOR] Aaden Atkins | C24: 21-12, 21-12
B25: 161\ [FAN] Alex Li
A26: 136\ [FAN] Alex Li | B26: 21-15, 21-13
D27: 179\ [CON] Thinh Nguyen
A28: 137\ [BOR] Jordan Atkins | D28: 21-16, 21-15
B29: 162\ [SEN] Andrew Li
A30: 137\ [SEN] Andrew Li | B30: 5-21, 10-21
C31: 172\ [CON] Thinh Nguyen
A32: 138\ [CON] Thinh Nguyen | C32: 21-15, 21-12
B33: 162\ [CON] Thinh Nguyen
A34: 138\ [LAM] Thit Lwin Tun | B34: 21-15, 21-13

Sheet WS
A1: WS Main Draw
A2: Round 1 | B2: Round 2 | C2: Quarter-Finals | D2: Semi-Finals | E2: Finals | F2: Winner
A4: 115\ [HUM] Rachel Chan (1)
B5: 123\ [HUM] Rachel Chan (1)
A6: 115\ [LAM] Jessie Hillier | B6: 21-1, 21-2
C7: 155\ [HUM] Rachel Chan (1)
A8: BYE | C8: 21-1, 21-1
B9: 123\ CAM] Alexa Clark
A10: CAM] Alexa Clark
D11: 177\ [HUM] Rachel Chan (1)
A12: [BOR] Alyssa Gagné | D12: 21-2, 21-1
B13: 124\ [BOR] Alyssa Gagné
A14: BYE
C15: 155\ [FAN] Rejoice Nwokedi
A16: 116\ [FAN] Rejoice Nwokedi | C16: 21-5, 21-9
B17: 124\ [FAN] Rejoice Nwokedi
A18: 116\ [CON] Shubi Yadav | B18: 21-12, 21-11
E19: 181\ [HUM] Rachel Chan (1)
A20: 117\ [FAN] Nicole Kim (5/8) | E20: 21-5, 21-3
B21: 125\ [FAN] Nicole Kim (5/8)
A22: 117\ [LAM] Lauren Goldsack | B22: 21-10, 21-18
C23: 156\ [FAN] Nicole Kim (5/8)
A24: [SEN] Tiffany Amper | C24: 22-20, 21-14
B25: 125\ [SEN] Tiffany Amper
A26: BYE
D27: 177\ [SEN] Chincco Lai (5/8)
A28: [CON] Mariam Muqeem | D28: 16-21, 21-6, 21-13
B29: 126\ [CON] Mariam Muqeem
A30: BYE
C31: 156\ [SEN] Chincco Lai (5/8)
A32: 118\ [BOR] Laydia Richard | C32: 21-9, 21-10
B33: 126\ [SEN] Chincco Lai (5/8)
A34: 118\ [SEN] Chincco Lai (5/8) | B34: 21-4, 21-4
F35: [HUM] Rachel Chan (1)
A36: 119\ [HUM] Shruti Joshi (3/4) | F36: 21-6, 21-3
B37: 127\ [HUM] Shruti Joshi (3/4)
A38: 119\ [FAN] Khiara Dizon | B38: 21-4, 21-8
C39: 157\ [HUM] Shruti Joshi (3/4)
A40: BYE | C40: 21-11, 21-13
B41: 127\ [SEN] Manuela Patiño
...

Sheet WS Cons
A1: WD Cons Draw
A2: Round 1 | B2: Quarter-Finals | C2: Semi-Finals | D2: Finals | E2: Winner
A4: 147\ [LAM] Jessie Hillier
B5: 167\ [SEN] Tiffany Amper
A6: 147\ [SEN] Tiffany Amper | B6: 21-16, 21-11
C7: 175\ [SEN] Tiffany Amper
A8: 148\ CAM] Alexa Clark | C8: 21-12, 21-12
B9: 167\ [BOR] Mackenzie Pilon
A10: 148\ [BOR] Mackenzie Pilon | B10: 21-12, 21-10
D11: 182\ [SEN] Tiffany Amper
A12: 149\ [BOR] Alyssa Gagné | D12: 22-20, 21-15
B13: 168\ [BOR] Alyssa Gagné
A14: 149\ BYE
C15: 175\ [CAM] Jamie Hopkins
A16: 150\ [CON] Shubi Yadav | C16: 21-10, 21-9
B17: 168\ [CAM] Jamie Hopkins
A18: 150\ [CAM] Jamie Hopkins | B18: 21-16, 21-12
E19: [CON] Mariam Muqeem
A20: 151\ [LAM] Lauren Goldsack | E20: 19-21, 21-10, 15-21
B21: 169\ [LAM] Lauren Goldsack
A22: 151\ [BOR] Maryssa Mercier | B22: 22-20, 21-12
C23: 176\ [LAM] Lauren Goldsack
A24: 152\ [SEN] Manuela Patiño | C24: 24-22, 23-21
B25: 169\ [SEN] Manuela Patiño
A26: 152\ BYE
D27: 182\ [CON] Mariam Muqeem
A28: 153\ [CON] Mariam Muqeem | D28: 20-22, 21-9, 21-13
B29: 170\ [CON] Mariam Muqeem
A30: 153\ [LAM] Sydney Godek | B30: 21-15, 22-24, 21-16
C31: 176\ [CON] Mariam Muqeem
A32: 154\ [BOR] Laydia Richard | C32: 21-18, 21-12
B33: 170\ [FAN] Khiara Dizon
A34: 154\ [FAN] Khiara Dizon | B34: 21-12, 21-11

Sheet XD
A1: XD Main Draw
A2: Round 1 | B2: Round 2 | C2: Quarter-Finals | D2: Semi-Finals | E2: Finals | F2: Winner
A4: 57\ [HUM] Rachel Chan/Jack Ronahan (1)
B5: 65\ [HUM] Rachel Chan/Jack Ronahan (1)
A6: 57\ [CAM] Jamie Hopkins/Dominik Brunette | B6: 21-10, 21-11
C7: 82\ [HUM] Rachel Chan/Jack Ronahan (1)
A8: BYE | C8: 21-8, 21-10
B9: 65\ [BOR] Maryssa Mercier/Aaden Atkins
A10: [BOR] Maryssa Mercier/Aaden Atkins
D11: 90\ [HUM] Rachel Chan/Jack Ronahan (1)
A12: [FAN] Xin Niu/Ram Ng | D12: 21-8, 21-10
B13: 66\ [FAN] Xin Niu/Ram Ng
A14: BYE
C15: 82\ [SEN] Amy Xing/Malakhai Thompson (5/8)
A16: 58\ [CON] Shubi Yadav/Nolan Bridge | C16: 14-21, 14-21
B17: 66\ [SEN] Amy Xing/Malakhai Thompson (5/8)
A18: 58\ [SEN] Amy Xing/Malakhai Thompson (5/8) | B18: 7-21, 10-21
E19: 94\ [SEN] Vanness Lam/Jordan Lau (5/8)
A20: 59\ [SEN] Vanness Lam/Jordan Lau (5/8) | E20: 21-12, W.D.
B21: 67\ [SEN] Vanness Lam/Jordan Lau (5/8)
A22: 59\ [LAM] Sydney Godek/Thit Lwin Tun | B22: 21-6, 21-6
C23: 83\ [SEN] Vanness Lam/Jordan Lau (5/8)
A24: 97\ [BOR] Alyssa Gagné/[CAM] Daniel Collins | C24: 21-16, 19-21,21-14
B25: 67\ [FAN] Sam Darby/Suhail Muhammad
A26: 97\ [FAN] Sam Darby/Suhail Muhammad | B26: 8-21, 8-21
D27: 90\ [SEN] Vanness Lam/Jordan Lau (5/8)
A28: 96\ [FAN] Nicole Kim/Thao Le | D28: 21-15, 21-11
B29: 68\ [FAN] Nicole Kim/Thao Le
A30: 96\ [CON] Thinh Nguyen/[BOR] Mackenzie Pilon | B30: 21-7, 21-8
C31: 83\ [FAN] Nicole Kim/Thao Le
A32: 60\ [CON] Ayshanur Janybek/Maxwell Barnes | C32: 21-11, 21-17
B33: 68\ [HUM] Elena Meng/Tyler Vicente-Pereira (3/4)
A34: 60\ [HUM] Elena Meng/Tyler Vicente-Pereira (3/4) | B34: 6-21, 13-21
F35: [SEN] Alyssa Iran/Bosco Lai (3/4)
A36: 61\ [SEN] Alyssa Iran/Bosco Lai (3/4) | F36: 15-21, 17-21
B37: 69\ [SEN] Alyssa Iran/Bosco Lai (3/4)
A38: 61\ [CAM] Chelsea Kennedy/Hedson John | B38: 21-9, 21-7
C39: 84\ [SEN] Alyssa Iran/Bosco Lai (3/4)
A40: BYE | C40: 21-8, 21-10
B41: 69\ [LAM] Lauren Goldsack/Milton M
...

Sheet XD Cons
A1: XD Cons Draw
A2: Round 1 | B2: Quarter-Finals | C2: Semi-Finals | D2: Finals | E2: Winner
A4: 74\ [CAM] Jamie Hopkins/Dominik Brunette
B5: 86\ [LAM] Lauren Goldsack/Milton M
A6: 74\ [LAM] Lauren Goldsack/Milton M | B6: 21-16, 16-21, 17-21
C7: 92\ [LAM] Lauren Goldsack/Milton M
A8: 75\ [CON] Shubi Yadav/Nolan Bridge | C8: 21-17, 21-15
B9: 86\ [CON] Shubi Yadav/Nolan Bridge
A10: 75\ [BOR] Laydia Richard/Eric Leduc | B10: 21-15, 21-10
D11: 95\ [FAN] Xin Niu/Ram Ng
A12: 76\ [BOR] Alyssa Gagné/[CAM] Daniel Collins | D12: 15-21, 8-21
B13: 87\ [FAN] Xin Niu/Ram Ng
A14: 76\ [FAN] Xin Niu/Ram Ng | B14: 10-21, 8-21
C15: 92\ [FAN] Xin Niu/Ram Ng
A16: 77\ [LAM] Sydney Godek/Thit Lwin Tun | C16: 21-13, 21-16
B17: 87\ [CON] Ayshanur Janybek/Maxwell Barnes
A18: 77\ [CON] Ayshanur Janybek/Maxwell Barnes | B18: 21-7, 13-21, 8-21
E19: [FAN] Xin Niu/Ram Ng
A20: 78\ [CON] Thinh Nguyen/[BOR] Mackenzie Pilon | E20: 21-12, 21-19
B21: 88\ [CON] Thinh Nguyen/[BOR] Mackenzie Pilon
A22: 78\ [LAM] Jessie Hillier/Gavin Clark | B22: 21-12, 21-11
C23: 93\ [CON] Thinh Nguyen/[BOR] Mackenzie Pilon
A24: 79\ [CAM] Chelsea Kennedy/Hedson John | C24: 21-15, 21-18
B25: 88\ [SEN] Tiffany Amper/Kevin Yee
A26: 79\ [SEN] Tiffany Amper/Kevin Yee | B26: 15-21, 13-21
D27: 95\ [SEN] Manuela Patiño/Andrew Li
A28: 80\ [BOR] Ayushee Somaroo/Jordan Atkins | D28: 14-21, 12-21
B29: 89\ [SEN] Manuela Patiño/Andrew Li
A30: 80\ [SEN] Manuela Patiño/Andrew Li | B30: 14-21, 21-13, 4-21
C31: 93\ [SEN] Manuela Patiño/Andrew Li
A32: 81\ [CAM] Alexa Clark/Grayson Hebner | C32: 21-14, 18-21, 21-15
B33: 89\ [BOR] Maryssa Mercier/Aaden Atkins
A34: 81\ [BOR] Maryssa Mercier/Aaden Atkins | B34: 22-24, 22-20, 5-21

Sheet MD
A1: MD Main Draw
A2: Round 1 | B2: Round 2 | C2: Quarter-Finals | D2: Semi-Finals | E2: Finals | F2: Winner
A4: 1\ [SEN] Anthony Tso/Jordan Lau (1)
B5: 9\ [SEN] Anthony Tso/Jordan Lau (1)
A6: 1\ [CAM] Dominik Brunette/Grayson Hebner | B6: 21-5, 21-8
C7: 33\ [SEN] Anthony Tso/Jordan Lau (1)
A8: BYE | C8: 21-10, 21-9
B9: 9\ [LAM] Caleb Clayton/Milton M
A10: [LAM] Caleb Clayton/Milton M
D11: 47\ [SEN] Anthony Tso/Jordan Lau (1)
A12: [FAN] Jack Wang/Alex Li | D12: 21-4, 21-8
B13: 6\ [FAN] Jack Wang/Alex Li
A14: BYE
C15: 33\ [CON] Maxwell Barnes/Nolan Bridge
A16: BYE | C16: 3-21, 1-21
B17: 6\ [CON] Maxwell Barnes/Nolan Bridge
A18: [CON] Maxwell Barnes/Nolan Bridge
E19: 54\ [SEN] Anthony Tso/Jordan Lau (1)
A20: 2\ [SEN] Malakai Thompson/Sebastien Liu (5/8) | E20: 21-15,21-13
B21: 10\ [SEN] Malakai Thompson/Sebastien Liu (5/8)
A22: 2\ [LAM] Dalton Baxter/Mathew Blayney | B22: 21-10, 21-3
C23: 34\ [SEN] Malakai Thompson/Sebastien Liu (5/8)
A24: BYE | C24: 21-10, 21-19
B25: 10\ [HUM] Harry Vu/Reanbert Valentino
A26: [HUM] Harry Vu/Reanbert Valentino
D27: 47\ [SEN] Malakai Thompson/Sebastien Liu (5/8)
A28: [BOR] Jordan Atkins/Aaden Atkins | D28: 24-22, 21-11
B29: 11\ [BOR] Jordan Atkins/Aaden Atkins
A30: BYE
C31: 34\ [HUM] Jack Ronahan/Chase Anderson (3/4)
A32: 3\ [CAM] Hedson John/Prabhkirat Singh | C32: 6-21, 7-21
B33: 11\ [HUM] Jack Ronahan/Chase Anderson (3/4)
A34: 3\ [HUM] Jack Ronahan/Chase Anderson (3/4) | B34: 8-21, 6-21
F35: [SEN] Bosco Lai/Maulik Jain (2)
A36: 4\ [FAN] Thao Le/Arpi Sinha (3/4) | F36: 18-21, 21-7, 16-21
B37: 12\ [FAN] Thao Le/Arpi Sinha (3/4)
A38: 4\ [CAM] Daniel Collins/Trent Barron | B38: 21-5, 21-7
C39: 35\ [FAN] Thao Le/Arpi Sinha (3/4)
A40: BYE | C40: 21-10, 21-12
B41: 12\ [CON] Ryan Tu/Akashdeep Singh
...

Sheet MD Cons
A1: MD Cons Draw
A2: Round 1 | B2: Semi-Finals | C2: Finals | D2: Winner | E2: Winner
A4: 21\ [CAM] Dominik Brunette/Grayson Hebner
B5: 37\ [CAM] Dominik Brunette/Grayson Hebner
A6: 21\ [LAM] Caleb Clayton/Milton M | B6: 22-20, 21-12
C7: 49\ [CAM] Dominik Brunette/Grayson Hebner
A8: 22\ BYE | C8: 21-11, 21-15
B9: 37\ [LAM] Dalton Baxter/Mathew Blayney
A10: 22\ [LAM] Dalton Baxter/Mathew Blayney
D11: 55\ [CON] Ryan Tu/Akashdeep Singh
A12: 23\ [BOR] Jordan Atkins/Aaden Atkins | D12: 19-21, 17-21
B13: 38\ [BOR] Jordan Atkins/Aaden Atkins
A14: 23\ [CAM] Hedson John/Prabhkirat Singh | B14: 21-15, 21-12
C15: 49\ [CON] Ryan Tu/Akashdeep Singh
A16: 24\ [CON] Ryan Tu/Akashdeep Singh | C16: 11-21, 8-21
B17: 38\ [CON] Ryan Tu/Akashdeep Singh
A18: 24\ [HUM] Harry Vu/Reanbert Valentino | B18: 21-14, 21-14
E19: [CON] Ryan Tu/Akashdeep Singh
A20: 25\ [CAM] Daniel Collins/Trent Barron | E20: 21-16, 21-18
B21: 39\ [CAM] Daniel Collins/Trent Barron
A22: 25\ BYE
C23: 50\ [CAM] Daniel Collins/Trent Barron
A24: 26\ [LAM] Ryan Stubberfield/Gavin Clark | C24: 24-22, 21-18
B25: 39\ [FAN] Jack Wang/Alex Li
A26: 26\ [FAN] Jack Wang/Alex Li | B26: 21-10, 21-14
D27: 55\ [HUM] Tyler Vicente-Pereira/Aldrin Miranda
A28: 27\ [HUM] Tyler Vicente-Pereira/Aldrin Miranda | D28: 11-21, 15-21
B29: 40\ [HUM] Tyler Vicente-Pereira/Aldrin Miranda
A30: 27\ [LAM] Spencer Veenedaal/Lucas Aarts | B30: 21-13, 21-11
C31: 50\ [HUM] Tyler Vicente-Pereira/Aldrin Miranda
A32: 28\ [CON] Thinh Nguyen/Boldizsar 'Bhumi' Sio | C32: 21-14, 16-21, 21-10
B33: 40\ [CON] Thinh Nguyen/Boldizsar 'Bhumi' Sio
A34: 28\ BYE

Sheet WD
A1: WD Main Draw
A2: Round 1 | B2: Quarter-Finals | C2: Semi-Finals | D2: Finals | E2: Winner
A4: 14\ [HUM] Rachel Chan/Elena Meng (1)
B5: 42\ [HUM] Rachel Chan/Elena Meng (1)
A6: 14\ [SEN] Tiffany Amper/Manuela Patiño | B6: 21-3, 21-2
C7: 51\ [HUM] Rachel Chan/Elena Meng (1)
A8: 15\ [LAM] Jessie Hillier/[BOR] Laydia Richard | C8: 21-2, 21-4
B9: 42\ [FAN] Rejoice Nwokedi/Khiara Dizon
A10: 15\ [FAN] Rejoice Nwokedi/Khiara Dizon | B10: 13-21, 11-21
D11: 56\ [HUM] Rachel Chan/Elena Meng (1)
A12: 16\ [SEN] Amy Xing/Chincco Lai | D12: 21-7, 21-2
B13: 41\ [SEN] Amy Xing/Chincco Lai
A14: 16\ [CON] Shubi Yadav/Mariam Muqeem | B14: 21-6, 21-9
C15: 51\ [SEN] Amy Xing/Chincco Lai
A16: BYE | C16: 11-21, 21-13, 21-11
B17: 41\ [FAN] Sam Darby/Nicole Kim (3/4)
A18: [FAN] Sam Darby/Nicole Kim (3/4)
E19: [HUM] Rachel Chan/Elena Meng (1)
A20: 17\ [SEN] Vanness Lam/Alyssa Iran (3/4) | E20: 21-13, 21-17
B21: 43\ [SEN] Vanness Lam/Alyssa Iran (3/4)
A22: 17\ [BOR] Alyssa Gagné/Mackenzie Pilon | B22: 21-4, 21-2
C23: 52\ [SEN] Vanness Lam/Alyssa Iran (3/4)
A24: 18\ [LAM] Sydney Godek/Lauren Goldsack | C24: 22-20, 27-25
B25: 43\ [FAN] Xin Niu/Tilu Vaidya
A26: 18\ [FAN] Xin Niu/Tilu Vaidya | B26: 8-21,7-21
D27: 56\ [HUM] Shruti Joshi/Sherry Wu (2)
A28: 19\ [CAM] Jamie Hopkins/Alexa Clark | D28: 11-21, 10-21
B29: 44\ [CAM] Jamie Hopkins/Alexa Clark
A30: 19\ [CON] Ayshanur Janybek/[SEN] Demetra Mew | B30: 21-17, 18-21, 24-22
C31: 52\ [HUM] Shruti Joshi/Sherry Wu (2)
A32: 20\ [BOR] Ayushee Somaroo/Maryssa Mercier | C32: 5-21, 4-21
B33: 44\ [HUM] Shruti Joshi/Sherry Wu (2)
A34: 20\ [HUM] Shruti Joshi/Sherry Wu (2) | B34: 5-21, 4-21

Sheet WD Cons
A1: WD Cons Draw
A2: Quarter-Finals | B2: Semi-Finals | C2: Finals | D2: Winner
A4: 29\ [SEN] Tiffany Amper/Manuela Patiño
B5: 45\ [FAN] Sam Darby/Nicole Kim
A6: 29\ [FAN] Sam Darby/Nicole Kim | B6: 21-18, 18-21, 10-21
C7: 53\ [FAN] Sam Darby/Nicole Kim
A8: 30\ [LAM] Jessie Hillier/[BOR] Laydia Richard | C8: 21-9, 21-8
B9: 45\ [CON] Shubi Yadav/Mariam Muqeem
A10: 30\ [CON] Shubi Yadav/Mariam Muqeem | B10: 16-21, 11-21
D11: [FAN] Sam Darby/Nicole Kim
A12: 31\ [LAM] Sydney Godek/Lauren Goldsack | D12: 21-13,21-10
B13: 46\ [LAM] Sydney Godek/Lauren Goldsack
A14: 31\ [BOR] Alyssa Gagné/Mackenzie Pilon | B14: 21-12, 21-5
C15: 53\ [LAM] Sydney Godek/Lauren Goldsack
A16: 32\ [CON] Ayshanur Janybek/[SEN] Demetra Mew | C16: 22-20, 21-19
B17: 46\ [CON] Ayshanur Janybek/[SEN] Demetra Mew
A18: 32\ [BOR] Ayushee Somaroo/Maryssa Mercier | B18: 21-15, 16-21, 21-12
